BEGIN:VCALENDAR
VERSION:2.0
PRODID:-//Acme Widgets\, Inc.//NONSGML ExportToCalendar//EN
CALSCALE:GREGORIAN
METHOD:PUBLISH
X-WR-CALNAME:Groupmuses near 
X-WR-NAME:Groupmuses near 
BEGIN:VEVENT
DTSTAMP:20260420T095124Z
UID:e700dc70-8a85-4a78-af5e-1f05dabaea88
DTSTART:20260420T020000Z
DTEND:20260420T043000Z
DESCRIPTION:Hosted by Carin + Greg C.\nMusicians: Chloe Perrier Green and L
 uca Pino\n\n
LOCATION:Mar Vista\, Los Angeles
SUMMARY:A Night of French Jazz Song 🎶🇫🇷❤️
URL:https://www.groupmuse.com/events/16430-a-night-of-french-jazz-song
END:VEVENT
END:VCALENDAR
