BEGIN:VCALENDAR
VERSION:2.0
PRODID:-//Acme Widgets\, Inc.//NONSGML ExportToCalendar//EN
CALSCALE:GREGORIAN
METHOD:PUBLISH
X-WR-CALNAME:Groupmuses near 
X-WR-NAME:Groupmuses near 
BEGIN:VEVENT
DTSTAMP:20260420T030608Z
UID:92c24934-636e-460a-a771-ffd300575010
DTSTART:20260506T223000Z
DTEND:20260507T010000Z
DESCRIPTION:Hosted by James P.\nMusicians: Simon Karakulidi\n\nI’m excite
 d to welcome pianist Simon Karakulidi for a masterful Groupmuse recital in
  my home\, featuring the romantic and impressionist works of Chopin\, Scri
 abin and Ravel.   \n\nWe will gather beginning at 6:30PM for drinks and li
 ght apps\, and everyone will have a chance to meet the artist.  Then\, aro
 und 7:15PM\, the recital will start.  Please take care to arrive prior to 
 7:00PM\, as late arrivals will not be be able to come in until intermissio
 n.  Thanks! \n\nA native of Siberia\, Simon Karakulidi has been living thr
 oughout the United States since 2016. He originally came to study with Van
  Cliburn Competition gold medalist Stanislav Ioudenitch and later earned a
  Master’s degree from the Yale School of Music.\n\nEarlier in his career
 \, Simon received more than twenty prizes at international competitions. S
 hortly before stepping back from public performance\, he gave a series of 
 concerts in Europe\, culminating in a recital at Salle Cortot in Paris. In
  addition to winning First Prize at the Concours Piano Campus in France\, 
 he was awarded five special prizes and the opportunity to record a CD.\n\n
 Since relocating to Philadelphia\, where he runs a private teaching studio
 \, Simon has focused on refining his artistic approach. His recent interes
 t in intimate\, private performances seeks to rediscover the spirit of the
  salon tradition popularized in 19th-century Paris.\n\nhttp://simonkarakul
 idi.com/\n\n\n
LOCATION:Fairmount/Art Museum\, Phila.
SUMMARY:A Spring Evening of Chopin\, Scriabin and Ravel
URL:https://www.groupmuse.com/events/16474-a-spring-evening-of-chopin-scria
 bin-and-ravel
END:VEVENT
END:VCALENDAR
