BEGIN:VCALENDAR
VERSION:2.0
PRODID:-//Acme Widgets\, Inc.//NONSGML ExportToCalendar//EN
CALSCALE:GREGORIAN
METHOD:PUBLISH
X-WR-CALNAME:Groupmuses near 
X-WR-NAME:Groupmuses near 
BEGIN:VEVENT
DTSTAMP:20260420T030156Z
UID:88e19d04-11cc-4dff-80a3-ffb7d2850c48
DTSTART:20260502T230000Z
DTEND:20260503T013000Z
DESCRIPTION:Hosted by Jared P.\nMusicians: Tamar Sagiv and Sara Gabalawi\n\
 nI'm thrilled to welcome Tamar Sagiv and Sara Gabalawi for their program B
 ach to Bach\, an evening of Bach and Bach-inspired works for cello duo!\n\
 nDoors at 7pm\, music at 7:30pm.
LOCATION:Columbus Circle
SUMMARY:Bach to Bach: Cello Duets
URL:https://www.groupmuse.com/events/16502-bach-to-bach-cello-duets
END:VEVENT
END:VCALENDAR
