BEGIN:VCALENDAR
VERSION:2.0
PRODID:-//Acme Widgets\, Inc.//NONSGML ExportToCalendar//EN
CALSCALE:GREGORIAN
METHOD:PUBLISH
X-WR-CALNAME:Groupmuses near 
X-WR-NAME:Groupmuses near 
BEGIN:VEVENT
DTSTAMP:20260420T095321Z
UID:4c6b8228-9f7f-452f-806c-48251ca7d732
DTSTART:20260420T000000Z
DTEND:20260420T023000Z
DESCRIPTION:Hosted by Hannah E.\nMusicians: \n\nIn this one-night-only Chic
 ago appearance\, Madrid-based lutenist\, guitarist\, and singer Jon Wasser
 man performs a lively mix of originals and Sephardic and medieval Spanish 
 repertoire. \n\nA native of New York\, Wasserman is an in-demand lutenist 
 and guitarist\, regularly performing with ensembles across the United Stat
 es\, Europe\, and South America. He is a specialist in plucked string inst
 ruments such as theorbo\, lute\, vihuela\, five-course guitar\, and four-c
 ourse guitar\, in addition to acoustic/electric/classical guitars\, mandol
 in\, banjo\, ukulele\, sitar\, and bass guitar\, among other plucked strin
 g instruments. He has performed in venues ranging from Carnegie Hall in Ne
 w York to ancient churches in Quito\, Ecuador and the Cathedral of Granada
 \, Spain. \n\nPlease note: Your hosts will some drinks onhand\, but BYOB i
 s recommended. We will provide snacks!\n\n
LOCATION:North Center\, Chicago
SUMMARY:Mementos from Spain with Jon Wasserman\, Lutenist @ Pink Parlor
URL:https://www.groupmuse.com/events/16504-mementos-from-spain-with-jon-was
 serman-lutenist-pink-parlor
END:VEVENT
END:VCALENDAR
